BEGIN:VCALENDAR
VERSION:2.0
PRODID:-//Virginia Works - ECPv6.15.20//NONSGML v1.0//EN
CALSCALE:GREGORIAN
METHOD:PUBLISH
X-WR-CALNAME:Virginia Works
X-ORIGINAL-URL:https://virginiaworks.gov
X-WR-CALDESC:Events for Virginia Works
REFRESH-INTERVAL;VALUE=DURATION:PT1H
X-Robots-Tag:noindex
X-PUBLISHED-TTL:PT1H
BEGIN:VTIMEZONE
TZID:America/New_York
BEGIN:DAYLIGHT
TZOFFSETFROM:-0500
TZOFFSETTO:-0400
TZNAME:EDT
DTSTART:20250309T070000
END:DAYLIGHT
BEGIN:STANDARD
TZOFFSETFROM:-0400
TZOFFSETTO:-0500
TZNAME:EST
DTSTART:20251102T060000
END:STANDARD
BEGIN:DAYLIGHT
TZOFFSETFROM:-0500
TZOFFSETTO:-0400
TZNAME:EDT
DTSTART:20260308T070000
END:DAYLIGHT
BEGIN:STANDARD
TZOFFSETFROM:-0400
TZOFFSETTO:-0500
TZNAME:EST
DTSTART:20261101T060000
END:STANDARD
BEGIN:DAYLIGHT
TZOFFSETFROM:-0500
TZOFFSETTO:-0400
TZNAME:EDT
DTSTART:20270314T070000
END:DAYLIGHT
BEGIN:STANDARD
TZOFFSETFROM:-0400
TZOFFSETTO:-0500
TZNAME:EST
DTSTART:20271107T060000
END:STANDARD
END:VTIMEZONE
BEGIN:VEVENT
DTSTART;TZID=America/New_York:20260421T093000
DTEND;TZID=America/New_York:20260421T093000
DTSTAMP:20260421T112739
CREATED:20260406T131735Z
LAST-MODIFIED:20260406T131735Z
UID:10001427-1776763800-1776763800@virginiaworks.gov
SUMMARY:Drivers/Movers/Helpers
DESCRIPTION:All in One Moving and Storage of Fredericksburg Hiring Event \nWe wll be doing immediate hiring for 50 full-time or seasonal household goods and commercial goods moving industry\nPlease bring drivers permits\, social security cards\, work permits and or Passports.
URL:https://virginiaworks.gov/event/drivers-movers-helpers/2026-04-21/
LOCATION:All in One Moving and Storage Inc.\, 300 Lansdowne Road\, Fredericksburg\, 22401\, United States
CATEGORIES:For Job Seekers
ORGANIZER;CN="All in One Moving and Storage Inc.":MAILTO:gthigpen@aiomoving.com
END:VEVENT
BEGIN:VEVENT
DTSTART;TZID=America/New_York:20260420T100000
DTEND;TZID=America/New_York:20260420T100000
DTSTAMP:20260421T112739
CREATED:20260402T175434Z
LAST-MODIFIED:20260402T175725Z
UID:10001422-1776679200-1776679200@virginiaworks.gov
SUMMARY:JOIN A WINNING TEAM! Victory Van Corporation Career Fair
DESCRIPTION:Date: April 20\, 2026\nTime: 10 AM.\nLocation: 110 Terminal Dr\, Sterling\, VA 20166\nContact: (800) 217-6318 | careers@victoryvan.com \nNow Hiring for the Following Positions: \n\nDrivers (Clean record required)\n\nCDL Drivers\nNon-CDL Drivers\n\n\nWarehouse\n\nWarehouse Managers\nForklift Operators\nPackers\n\n\nOffice & Sales\n\nSales Representatives\nLogistics Coordinators\nCustomer Service\n\n\n\nWhy Choose Victory Van? \n\nEmployee-Owned: We are an employee-owned company invested in your success.\nStability: Over 90 years of excellence in moving and storage.\nGrowth: Rapidly expanding our household and commercial divisions.\nVariety: Work with diverse clients\, from residential families to government agencies.\n\nWhat to Bring: \n\nA copy of your current resume.\nA valid ID (and your medical card if applying for driving roles).\nYour best professional attitude!
URL:https://virginiaworks.gov/event/join-a-winning-team-victory-van-corporation-career-fair/
LOCATION:Victory Van Corporation\, 110 Terminal Dr\, Sterling\, 20166\, United States
CATEGORIES:For Job Seekers
ORGANIZER;CN="Victory Van Corporation":MAILTO:careers@victoryvan.com
END:VEVENT
END:VCALENDAR